BEGIN:VCALENDAR
PRODID:-//eluceo/ical//2.0/EN
VERSION:2.0
CALSCALE:GREGORIAN
BEGIN:VEVENT
UID:e53f68f1958a81d68da6d278625fa7aa
DTSTAMP:20260419T123119Z
SUMMARY:Húsnæðismál í aðdraganda kosningaFyrirlesari: Hermann Jónsso
 n\, forstjóri Húsnæðis- og mannvirkjastofnunar 
DESCRIPTION:
URL:https://rvkaustur.rotary1360.is/is/agenda/show/3663
DTSTART;TZID=Iceland:20220315T120000
DTEND;TZID=Iceland:20220315T130000
LOCATION:Grand Hótel\nSigtún 28\n105 Reykjavík\n
CATEGORIES:Rotary
END:VEVENT
BEGIN:VTIMEZONE
TZID:Iceland
BEGIN:STANDARD
DTSTART:20220315T120000
TZNAME:GMT
TZOFFSETTO:+0000
TZOFFSETFROM:+0000
END:STANDARD
END:VTIMEZONE
END:VCALENDAR
